BEGIN:VCALENDAR
VERSION:2.0
PRODID:-//ChamberMaster//Event Calendar 2.0//EN
METHOD:PUBLISH
X-PUBLISHED-TTL:P3D
REFRESH-INTERVAL:P3D
CALSCALE:GREGORIAN
BEGIN:VEVENT
DTSTART:20250126T190000Z
DTEND:20250126T210000Z
X-MICROSOFT-CDO-ALLDAYEVENT:FALSE
SUMMARY:Maple Syrup Tree Tapping Class
DESCRIPTION:A "Tree Tapping Class" is a hands-on educational workshop where participants learn the traditional practice of collecting sap from trees\, specifically maple trees\, by drilling a small hole in the trunk and inserting a spout to collect the sap\, which can then be boiled down to make maple syrup.
X-ALT-DESC;FMTTYPE=text/html:A &quot\;Tree Tapping Class&quot\; is a hands-on educational workshop where participants learn the traditional practice of collecting sap from trees\, specifically maple trees\, by drilling a small hole in the trunk and inserting a spout to collect the sap\, which can then be boiled down to make maple syrup.
LOCATION:Willoughby Farms 631 Willoughby Ln\, Collinsville\, IL\, 62234
UID:e.504.9845
SEQUENCE:3
DTSTAMP:20260421T233052Z
URL:http://collinsvillechamber.chambermaster.com/events/details/maple-syrup-tree-tapping-class-9845
END:VEVENT

END:VCALENDAR
